BEGIN:VCALENDAR
VERSION:2.0
PRODID:-//SFC Hakalanranta - ECPv6.15.20//NONSGML v1.0//EN
CALSCALE:GREGORIAN
METHOD:PUBLISH
X-ORIGINAL-URL:https://sfc-hakalanranta.com/en
X-WR-CALDESC:Events for SFC Hakalanranta
REFRESH-INTERVAL;VALUE=DURATION:PT1H
X-Robots-Tag:noindex
X-PUBLISHED-TTL:PT1H
BEGIN:VTIMEZONE
TZID:Europe/Helsinki
BEGIN:DAYLIGHT
TZOFFSETFROM:+0200
TZOFFSETTO:+0300
TZNAME:EEST
DTSTART:20180325T010000
END:DAYLIGHT
BEGIN:STANDARD
TZOFFSETFROM:+0300
TZOFFSETTO:+0200
TZNAME:EET
DTSTART:20181028T010000
END:STANDARD
BEGIN:DAYLIGHT
TZOFFSETFROM:+0200
TZOFFSETTO:+0300
TZNAME:EEST
DTSTART:20190331T010000
END:DAYLIGHT
BEGIN:STANDARD
TZOFFSETFROM:+0300
TZOFFSETTO:+0200
TZNAME:EET
DTSTART:20191027T010000
END:STANDARD
BEGIN:DAYLIGHT
TZOFFSETFROM:+0200
TZOFFSETTO:+0300
TZNAME:EEST
DTSTART:20200329T010000
END:DAYLIGHT
BEGIN:STANDARD
TZOFFSETFROM:+0300
TZOFFSETTO:+0200
TZNAME:EET
DTSTART:20201025T010000
END:STANDARD
END:VTIMEZONE
BEGIN:VEVENT
DTSTART;VALUE=DATE:20190831
DTEND;VALUE=DATE:20190901
DTSTAMP:20260425T141201
CREATED:20190107T093755Z
LAST-MODIFIED:20190805T165244Z
UID:2401-1567209600-1567295999@sfc-hakalanranta.com
SUMMARY:40-vuotisjuhlat
DESCRIPTION:[fusion_builder_container hundred_percent=”no” equal_height_columns=”no” menu_anchor=”” hide_on_mobile=”small-visibility\,medium-visibility\,large-visibility” class=”” id=”” background_color=”” background_image=”” background_position=”center center” background_repeat=”no-repeat” fade=”no” background_parallax=”none” parallax_speed=”0.3″ video_mp4=”” video_webm=”” video_ogv=”” video_url=”” video_aspect_ratio=”16:9″ video_loop=”yes” video_mute=”yes” overlay_color=”” video_preview_image=”” border_size=”” border_color=”” border_style=”solid” padding_top=”” padding_bottom=”” padding_left=”” padding_right=””][fusion_builder_row][fusion_builder_column type=”1_1″ layout=”1_1″ background_position=”left top” background_color=”” border_size=”” border_color=”” border_style=”solid” border_position=”all” spacing=”yes” background_image=”” background_repeat=”no-repeat” padding_top=”” padding_right=”” padding_bottom=”” padding_left=”” margin_top=”0px” margin_bottom=”0px” class=”” id=”” animation_type=”” animation_speed=”0.3″ animation_direction=”left” hide_on_mobile=”small-visibility\,medium-visibility\,large-visibility” center_content=”no” last=”no” min_height=”” hover_type=”none” link=””][fusion_content_boxes layout=”icon-with-title” columns=”1″ title_size=”” heading_size=”2″ title_color=”” body_color=”” backgroundcolor=”” icon=”” iconflip=”” iconrotate=”” iconspin=”no” iconcolor=”” icon_circle=”” icon_circle_radius=”” circlecolor=”” circlebordersize=”” circlebordercolor=”” outercirclebordersize=”” outercirclebordercolor=”” icon_size=”” icon_hover_type=”” hover_accent_color=”” image=”” image_id=”” image_max_width=”” link_type=”” button_span=”” link_area=”” link_target=”” icon_align=”left” animation_type=”” animation_delay=”” animation_offset=”” animation_direction=”left” animation_speed=”0.3″ margin_top=”” margin_bottom=”” hide_on_mobile=”small-visibility\,medium-visibility\,large-visibility” class=”” id=””][fusion_content_box title=”40-vuotisjuhlat” backgroundcolor=”” icon=”” iconflip=”” iconrotate=”” iconspin=”no” iconcolor=”” circlecolor=”” circlebordersize=”” circlebordercolor=”” outercirclebordersize=”” outercirclebordercolor=”” image=”” image_id=”” image_max_width=”” link=”https://sfc-hakalanranta.com/wp-content/uploads/2019/08/40-vuotisjuhlan-tapahtumailmoitus.pdf” linktext=”Avaa juhlaohjelma tästä” link_target=”_blank” animation_type=”” animation_direction=”left” animation_speed=”0.3″ animation_offset=””] \nSF-Caravan Valkeakosken seutu ry juhlii 40-vuotista taivaltaan lauantaina 31.8.2019. Tervetuloa juhlimaan kanssamme! \n[/fusion_content_box][/fusion_content_boxes][/fusion_builder_column][/fusion_builder_row][/fusion_builder_container]
URL:https://sfc-hakalanranta.com/en/event/40-vuotisjuhlat/
LOCATION:SFC Hakalanranta\, Hakalanranta 51\, Ritvala\, 37720\, Suomi
CATEGORIES:Tapahtuma
ATTACH;FMTTYPE=image/jpeg:https://sfc-hakalanranta.com/wp-content/uploads/2019/01/ScreenHunter_17.jpg
ORGANIZER;CN="SF-Caravan Valkeakosken seutu ry":MAILTO:sfcaravanvalkeakoskenseutury@pp.inet.fi
END:VEVENT
END:VCALENDAR