BEGIN:VCALENDAR
VERSION:2.0
PRODID:-//SFC Hakalanranta - ECPv6.15.20//NONSGML v1.0//EN
CALSCALE:GREGORIAN
METHOD:PUBLISH
X-WR-CALNAME:SFC Hakalanranta
X-ORIGINAL-URL:https://sfc-hakalanranta.com/en
X-WR-CALDESC:Events for SFC Hakalanranta
REFRESH-INTERVAL;VALUE=DURATION:PT1H
X-Robots-Tag:noindex
X-PUBLISHED-TTL:PT1H
BEGIN:VTIMEZONE
TZID:Europe/Helsinki
BEGIN:DAYLIGHT
TZOFFSETFROM:+0200
TZOFFSETTO:+0300
TZNAME:EEST
DTSTART:20200329T010000
END:DAYLIGHT
BEGIN:STANDARD
TZOFFSETFROM:+0300
TZOFFSETTO:+0200
TZNAME:EET
DTSTART:20201025T010000
END:STANDARD
BEGIN:DAYLIGHT
TZOFFSETFROM:+0200
TZOFFSETTO:+0300
TZNAME:EEST
DTSTART:20210328T010000
END:DAYLIGHT
BEGIN:STANDARD
TZOFFSETFROM:+0300
TZOFFSETTO:+0200
TZNAME:EET
DTSTART:20211031T010000
END:STANDARD
BEGIN:DAYLIGHT
TZOFFSETFROM:+0200
TZOFFSETTO:+0300
TZNAME:EEST
DTSTART:20220327T010000
END:DAYLIGHT
BEGIN:STANDARD
TZOFFSETFROM:+0300
TZOFFSETTO:+0200
TZNAME:EET
DTSTART:20221030T010000
END:STANDARD
END:VTIMEZONE
BEGIN:VEVENT
DTSTART;TZID=Europe/Helsinki:20210313T090000
DTEND;TZID=Europe/Helsinki:20210313T170000
DTSTAMP:20260424T073325
CREATED:20201213T152325Z
LAST-MODIFIED:20210228T121501Z
UID:2920-1615626000-1615654800@sfc-hakalanranta.com
SUMMARY:Pilkkikisat
DESCRIPTION:Kisat on peruttu tautitilanteen takia
URL:https://sfc-hakalanranta.com/en/event/pilkkikisat-2/
LOCATION:SFC Hakalanranta\, Hakalanranta 51\, Ritvala\, 37720\, Suomi
CATEGORIES:Tapahtuma
ATTACH;FMTTYPE=image/jpeg:https://sfc-hakalanranta.com/wp-content/uploads/2019/01/ScreenHunter_13.jpg
ORGANIZER;CN="SF-Caravan Valkeakosken seutu ry":MAILTO:sfcaravanvalkeakoskenseutury@pp.inet.fi
END:VEVENT
END:VCALENDAR