BEGIN:VCALENDAR
VERSION:2.0
PRODID:-//SFC Hakalanranta - ECPv6.15.20//NONSGML v1.0//EN
CALSCALE:GREGORIAN
METHOD:PUBLISH
X-WR-CALNAME:SFC Hakalanranta
X-ORIGINAL-URL:https://sfc-hakalanranta.com/en
X-WR-CALDESC:Events for SFC Hakalanranta
REFRESH-INTERVAL;VALUE=DURATION:PT1H
X-Robots-Tag:noindex
X-PUBLISHED-TTL:PT1H
BEGIN:VTIMEZONE
TZID:Europe/Helsinki
BEGIN:DAYLIGHT
TZOFFSETFROM:+0200
TZOFFSETTO:+0300
TZNAME:EEST
DTSTART:20200329T010000
END:DAYLIGHT
BEGIN:STANDARD
TZOFFSETFROM:+0300
TZOFFSETTO:+0200
TZNAME:EET
DTSTART:20201025T010000
END:STANDARD
BEGIN:DAYLIGHT
TZOFFSETFROM:+0200
TZOFFSETTO:+0300
TZNAME:EEST
DTSTART:20210328T010000
END:DAYLIGHT
BEGIN:STANDARD
TZOFFSETFROM:+0300
TZOFFSETTO:+0200
TZNAME:EET
DTSTART:20211031T010000
END:STANDARD
BEGIN:DAYLIGHT
TZOFFSETFROM:+0200
TZOFFSETTO:+0300
TZNAME:EEST
DTSTART:20220327T010000
END:DAYLIGHT
BEGIN:STANDARD
TZOFFSETFROM:+0300
TZOFFSETTO:+0200
TZNAME:EET
DTSTART:20221030T010000
END:STANDARD
END:VTIMEZONE
BEGIN:VEVENT
DTSTART;VALUE=DATE:20210612
DTEND;VALUE=DATE:20210614
DTSTAMP:20260423T014547
CREATED:20201213T155048Z
LAST-MODIFIED:20210531T165628Z
UID:2931-1623456000-1623628799@sfc-hakalanranta.com
SUMMARY:Helatreffit
DESCRIPTION:[fusion_builder_container type=”flex” hundred_percent=”no” equal_height_columns=”no” menu_anchor=”” hide_on_mobile=”small-visibility\,medium-visibility\,large-visibility” class=”” id=”” background_color=”” background_image=”” background_position=”center center” background_repeat=”no-repeat” fade=”no” background_parallax=”none” parallax_speed=”0.3″ video_mp4=”” video_webm=”” video_ogv=”” video_url=”” video_aspect_ratio=”16:9″ video_loop=”yes” video_mute=”yes” overlay_color=”” video_preview_image=”” border_color=”” border_style=”solid” padding_top=”” padding_bottom=”” padding_left=”” padding_right=””][fusion_builder_row][fusion_builder_column type=”1_1″ layout=”1_1″ background_position=”left top” background_color=”” border_color=”” border_style=”solid” border_position=”all” spacing=”yes” background_image=”” background_repeat=”no-repeat” padding_top=”” padding_right=”” padding_bottom=”” padding_left=”” margin_top=”0px” margin_bottom=”0px” class=”” id=”” animation_type=”” animation_speed=”0.3″ animation_direction=”left” hide_on_mobile=”small-visibility\,medium-visibility\,large-visibility” center_content=”no” last=”true” min_height=”” hover_type=”none” link=”” border_sizes_top=”” border_sizes_bottom=”” border_sizes_left=”” border_sizes_right=”” first=”true”][fusion_text] \nOhjelma\nPe 11.6\n• Arpojen myynti alkaa \n• Saunat\n• N klo 16 – 17\, 18 – 19\n• M klo 17 – 18\, 19 – 20\n• Tanssiorkesteri Ajomies klo 20:30 – 23\, tanssit ulkona maapohjalla\n• Hiljaisuus klo 01 \nLa 12.6.\n• Arpojen myynti jatkuu\n• Sammutinten tarkistukset (10 €)\, kaasujen koeponnistukset (30 €) ja\nkosteusmittaukset (55 €). Töiden ennakkovaraus ilmoittautuessa. Töiden maksut käteisellä tekijälle \n• Treffimaksut toimistolla klo 9 – 11\n• Perinteinen hernekeittolounas klo 12 pitkissä pöydissä\n• Mölkkykisa naiset vs miehet klo 13\n• Kakkukahvit klo 15 \n• Saunat\n• N klo 16 – 17\, 18 – 19\n• M klo 17 – 18\, 19 – 20\n• Arpajaiset klo 20:30\n• Tulet grillillä klo 21 >>\n• Hiljaisuus klo 24 \nSu 13.6.\n• Turvallisia kilometrejä tai leppoisaa leiriytymistä Hakalanrannassa \nTreffitietoutta:\n• Ennakkoilmoittautuminen 6.6. mennessä Annelle puhelimitse 0400 809 121\n• Hinta vierailijoille 40 € ajoneuvo + 10 € aikuinen + 5€/alle 1 2 v.\n• Hinta kausipaikkalaiselle 10 €/aikuinen ja 5 €/alle 12 v. \n Hinta sisältää:\n• vieraille 2 vrk leiriytymisen\, valosähkön\, treffiohjelman ja tarjoilut\n• kausipaikkalaisille treffiohjelman ja tarjoilut\n• Lisätietoa treffeistä Annelta \, p. 0400 809 121 \nTERVETULOA TREFFEILLE HAKALANRANTAAN\nSF Caravan Valkeakosken seutu ry \n[/fusion_text][fusion_content_boxes layout=”icon-with-title” columns=”1″ link_type=”” button_span=”” link_area=”” link_target=”” icon_align=”left” animation_type=”” animation_direction=”left” animation_speed=”0.3″ animation_delay=”” animation_offset=”” hide_on_mobile=”small-visibility\,medium-visibility\,large-visibility” class=”” id=”” title_size=”” heading_size=”2″ title_color=”” body_color=”” backgroundcolor=”” icon=”” iconflip=”” iconrotate=”” iconspin=”no” iconcolor=”” icon_circle=”” icon_circle_radius=”” circlecolor=”” circlebordersize=”” circlebordercolor=”” outercirclebordersize=”” outercirclebordercolor=”” icon_size=”” icon_hover_type=”” hover_accent_color=”” image=”” image_id=”” image_max_width=”” margin_top=”” margin_bottom=””][fusion_content_box title=”” backgroundcolor=”#ffffff” icon=”fa-arrow-right fas” iconflip=”” iconrotate=”” iconspin=”” iconcolor=”” circlecolor=”” circlebordersize=”” circlebordercolor=”” outercirclebordersize=”” outercirclebordercolor=”” image=”” image_id=”” image_max_width=”” link=”https://sfc-hakalanranta.com/wp-content/uploads/2021/05/Hakalanrannan-Helatreffit-2021.pdf” linktext=”Lataa Pdf-tiedosto” link_target=”” animation_type=”” animation_direction=”left” animation_speed=”0.3″ animation_offset=”” /][/fusion_content_boxes][/fusion_builder_column][/fusion_builder_row][/fusion_builder_container]
URL:https://sfc-hakalanranta.com/en/event/helatreffit-2/
LOCATION:SFC Hakalanranta\, Hakalanranta 51\, Ritvala\, 37720\, Suomi
CATEGORIES:Treffit
ATTACH;FMTTYPE=image/jpeg:https://sfc-hakalanranta.com/wp-content/uploads/2019/01/spring-276014_1920.jpg
ORGANIZER;CN="SF-Caravan Valkeakosken seutu ry":MAILTO:sfcaravanvalkeakoskenseutury@pp.inet.fi
END:VEVENT
END:VCALENDAR