BEGIN:VCALENDAR
VERSION:2.0
PRODID:-//SFC Hakalanranta - ECPv6.15.20//NONSGML v1.0//EN
CALSCALE:GREGORIAN
METHOD:PUBLISH
X-ORIGINAL-URL:https://sfc-hakalanranta.com
X-WR-CALDESC:Tapahtumat SFC Hakalanranta
REFRESH-INTERVAL;VALUE=DURATION:PT1H
X-Robots-Tag:noindex
X-PUBLISHED-TTL:PT1H
BEGIN:VTIMEZONE
TZID:Europe/Helsinki
BEGIN:DAYLIGHT
TZOFFSETFROM:+0200
TZOFFSETTO:+0300
TZNAME:EEST
DTSTART:20240331T010000
END:DAYLIGHT
BEGIN:STANDARD
TZOFFSETFROM:+0300
TZOFFSETTO:+0200
TZNAME:EET
DTSTART:20241027T010000
END:STANDARD
BEGIN:DAYLIGHT
TZOFFSETFROM:+0200
TZOFFSETTO:+0300
TZNAME:EEST
DTSTART:20250330T010000
END:DAYLIGHT
BEGIN:STANDARD
TZOFFSETFROM:+0300
TZOFFSETTO:+0200
TZNAME:EET
DTSTART:20251026T010000
END:STANDARD
BEGIN:DAYLIGHT
TZOFFSETFROM:+0200
TZOFFSETTO:+0300
TZNAME:EEST
DTSTART:20260329T010000
END:DAYLIGHT
BEGIN:STANDARD
TZOFFSETFROM:+0300
TZOFFSETTO:+0200
TZNAME:EET
DTSTART:20261025T010000
END:STANDARD
END:VTIMEZONE
BEGIN:VEVENT
DTSTART;VALUE=DATE:20250802
DTEND;VALUE=DATE:20250803
DTSTAMP:20260419T220923
CREATED:20250302T144855Z
LAST-MODIFIED:20250716T052432Z
UID:4362-1754092800-1754179199@sfc-hakalanranta.com
SUMMARY:Possutreffit
DESCRIPTION:
URL:https://sfc-hakalanranta.com/event/possutreffit-2/
LOCATION:SFC Hakalanranta\, Hakalanranta 51\, Ritvala\, 37720\, Suomi
CATEGORIES:Treffit
ORGANIZER;CN="SF-Caravan Valkeakosken seutu ry":MAILTO:sfcaravanvalkeakoskenseutury@pp.inet.fi
END:VEVENT
BEGIN:VEVENT
DTSTART;VALUE=DATE:20250829
DTEND;VALUE=DATE:20250901
DTSTAMP:20260419T220923
CREATED:20250302T145012Z
LAST-MODIFIED:20250811T154459Z
UID:4364-1756425600-1756684799@sfc-hakalanranta.com
SUMMARY:Venetsialaiset
DESCRIPTION:
URL:https://sfc-hakalanranta.com/event/venetsialaiset/
LOCATION:SFC Hakalanranta\, Hakalanranta 51\, Ritvala\, 37720\, Suomi
ATTACH;FMTTYPE=image/png:https://sfc-hakalanranta.com/wp-content/uploads/2025/03/Venetsialaiset2025.png
ORGANIZER;CN="SF-Caravan Valkeakosken seutu ry":MAILTO:sfcaravanvalkeakoskenseutury@pp.inet.fi
END:VEVENT
END:VCALENDAR