BEGIN:VCALENDAR
VERSION:2.0
PRODID:-//SFC Hakalanranta - ECPv6.15.20//NONSGML v1.0//EN
CALSCALE:GREGORIAN
METHOD:PUBLISH
X-ORIGINAL-URL:https://sfc-hakalanranta.com
X-WR-CALDESC:Tapahtumat SFC Hakalanranta
REFRESH-INTERVAL;VALUE=DURATION:PT1H
X-Robots-Tag:noindex
X-PUBLISHED-TTL:PT1H
BEGIN:VTIMEZONE
TZID:Europe/Helsinki
BEGIN:DAYLIGHT
TZOFFSETFROM:+0200
TZOFFSETTO:+0300
TZNAME:EEST
DTSTART:20200329T010000
END:DAYLIGHT
BEGIN:STANDARD
TZOFFSETFROM:+0300
TZOFFSETTO:+0200
TZNAME:EET
DTSTART:20201025T010000
END:STANDARD
BEGIN:DAYLIGHT
TZOFFSETFROM:+0200
TZOFFSETTO:+0300
TZNAME:EEST
DTSTART:20210328T010000
END:DAYLIGHT
BEGIN:STANDARD
TZOFFSETFROM:+0300
TZOFFSETTO:+0200
TZNAME:EET
DTSTART:20211031T010000
END:STANDARD
BEGIN:DAYLIGHT
TZOFFSETFROM:+0200
TZOFFSETTO:+0300
TZNAME:EEST
DTSTART:20220327T010000
END:DAYLIGHT
BEGIN:STANDARD
TZOFFSETFROM:+0300
TZOFFSETTO:+0200
TZNAME:EET
DTSTART:20221030T010000
END:STANDARD
BEGIN:DAYLIGHT
TZOFFSETFROM:+0200
TZOFFSETTO:+0300
TZNAME:EEST
DTSTART:20230326T010000
END:DAYLIGHT
BEGIN:STANDARD
TZOFFSETFROM:+0300
TZOFFSETTO:+0200
TZNAME:EET
DTSTART:20231029T010000
END:STANDARD
BEGIN:DAYLIGHT
TZOFFSETFROM:+0200
TZOFFSETTO:+0300
TZNAME:EEST
DTSTART:20240331T010000
END:DAYLIGHT
BEGIN:STANDARD
TZOFFSETFROM:+0300
TZOFFSETTO:+0200
TZNAME:EET
DTSTART:20241027T010000
END:STANDARD
BEGIN:DAYLIGHT
TZOFFSETFROM:+0200
TZOFFSETTO:+0300
TZNAME:EEST
DTSTART:20250330T010000
END:DAYLIGHT
BEGIN:STANDARD
TZOFFSETFROM:+0300
TZOFFSETTO:+0200
TZNAME:EET
DTSTART:20251026T010000
END:STANDARD
BEGIN:DAYLIGHT
TZOFFSETFROM:+0200
TZOFFSETTO:+0300
TZNAME:EEST
DTSTART:20260329T010000
END:DAYLIGHT
BEGIN:STANDARD
TZOFFSETFROM:+0300
TZOFFSETTO:+0200
TZNAME:EET
DTSTART:20261025T010000
END:STANDARD
BEGIN:DAYLIGHT
TZOFFSETFROM:+0200
TZOFFSETTO:+0300
TZNAME:EEST
DTSTART:20270328T010000
END:DAYLIGHT
BEGIN:STANDARD
TZOFFSETFROM:+0300
TZOFFSETTO:+0200
TZNAME:EET
DTSTART:20271031T010000
END:STANDARD
END:VTIMEZONE
BEGIN:VTIMEZONE
TZID:UTC
BEGIN:STANDARD
TZOFFSETFROM:+0000
TZOFFSETTO:+0000
TZNAME:UTC
DTSTART:20210101T000000
END:STANDARD
END:VTIMEZONE
BEGIN:VEVENT
DTSTART;VALUE=DATE:20211008
DTEND;VALUE=DATE:20211011
DTSTAMP:20260425T040657
CREATED:20210928T162946Z
LAST-MODIFIED:20210928T162946Z
UID:3051-1633651200-1633910399@sfc-hakalanranta.com
SUMMARY:Paluu 80-luvulle
DESCRIPTION:Kasaribileet Hakalanrannassa
URL:https://sfc-hakalanranta.com/event/paluu-80-luvulle/
LOCATION:SFC Hakalanranta\, Hakalanranta 51\, Ritvala\, 37720\, Suomi
CATEGORIES:Tapahtuma
ATTACH;FMTTYPE=image/png:https://sfc-hakalanranta.com/wp-content/uploads/2021/09/boombox-5846601_640.png
ORGANIZER;CN="SF-Caravan Valkeakosken seutu ry":MAILTO:sfcaravanvalkeakoskenseutury@pp.inet.fi
END:VEVENT
BEGIN:VEVENT
DTSTART;VALUE=DATE:20211023
DTEND;VALUE=DATE:20211024
DTSTAMP:20260425T040657
CREATED:20201213T155458Z
LAST-MODIFIED:20210928T162043Z
UID:2935-1634947200-1635033599@sfc-hakalanranta.com
SUMMARY:Syyssiivoustalkoot
DESCRIPTION:
URL:https://sfc-hakalanranta.com/event/syyssiivous-talkoot/
LOCATION:SFC Hakalanranta\, Hakalanranta 51\, Ritvala\, 37720\, Suomi
CATEGORIES:Talkoot
ATTACH;FMTTYPE=image/jpeg:https://sfc-hakalanranta.com/wp-content/uploads/2019/01/leaves-57427_1280.jpg
ORGANIZER;CN="SF-Caravan Valkeakosken seutu ry":MAILTO:sfcaravanvalkeakoskenseutury@pp.inet.fi
END:VEVENT
BEGIN:VEVENT
DTSTART;TZID=Europe/Helsinki:20211120T130000
DTEND;TZID=Europe/Helsinki:20211120T153000
DTSTAMP:20260425T040657
CREATED:20201213T154813Z
LAST-MODIFIED:20210830T082505Z
UID:2929-1637413200-1637422200@sfc-hakalanranta.com
SUMMARY:Syyskokous
DESCRIPTION:Jäsenkorttien tarkistus ja kahvit klo 12:30
URL:https://sfc-hakalanranta.com/event/syyskokous/
LOCATION:SFC Hakalanranta\, Hakalanranta 51\, Ritvala\, 37720\, Suomi
CATEGORIES:Kokous
ATTACH;FMTTYPE=image/jpeg:https://sfc-hakalanranta.com/wp-content/uploads/2019/01/ScreenHunter_16.jpg
ORGANIZER;CN="SF-Caravan Valkeakosken seutu ry":MAILTO:sfcaravanvalkeakoskenseutury@pp.inet.fi
END:VEVENT
BEGIN:VEVENT
DTSTART;VALUE=DATE:20211204
DTEND;VALUE=DATE:20211205
DTSTAMP:20260425T040657
CREATED:20201213T155739Z
LAST-MODIFIED:20211125T100959Z
UID:2937-1638576000-1638662399@sfc-hakalanranta.com
SUMMARY:Puurojuhla
DESCRIPTION:
URL:https://sfc-hakalanranta.com/event/puurojuhla-2/
CATEGORIES:Tapahtuma
ATTACH;FMTTYPE=image/png:https://sfc-hakalanranta.com/wp-content/uploads/2019/01/santa-claus-2927962_1920.png
END:VEVENT
BEGIN:VEVENT
DTSTART;VALUE=DATE:20220414
DTEND;VALUE=DATE:20220419
DTSTAMP:20260425T040657
CREATED:20220124T091558Z
LAST-MODIFIED:20220408T165017Z
UID:3107-1649894400-1650326399@sfc-hakalanranta.com
SUMMARY:Pääsiäinen 14.-18.4.2022
DESCRIPTION:
URL:https://sfc-hakalanranta.com/event/paasiainen-2/
LOCATION:SFC Hakalanranta\, Hakalanranta 51\, Ritvala\, 37720\, Suomi
ORGANIZER;CN="SF-Caravan Valkeakosken seutu ry":MAILTO:sfcaravanvalkeakoskenseutury@pp.inet.fi
END:VEVENT
BEGIN:VEVENT
DTSTART;VALUE=DATE:20220423
DTEND;VALUE=DATE:20220424
DTSTAMP:20260425T040657
CREATED:20220124T093726Z
LAST-MODIFIED:20220124T100057Z
UID:3109-1650672000-1650758399@sfc-hakalanranta.com
SUMMARY:Kevätsiivoustalkoot 23.4.2022
DESCRIPTION:
URL:https://sfc-hakalanranta.com/event/kevatsiivoustalkoot/
LOCATION:SFC Hakalanranta\, Hakalanranta 51\, Ritvala\, 37720\, Suomi
CATEGORIES:Talkoot
ORGANIZER;CN="SF-Caravan Valkeakosken seutu ry":MAILTO:sfcaravanvalkeakoskenseutury@pp.inet.fi
END:VEVENT
BEGIN:VEVENT
DTSTART;VALUE=DATE:20220514
DTEND;VALUE=DATE:20220515
DTSTAMP:20260425T040657
CREATED:20220124T094821Z
LAST-MODIFIED:20220423T120649Z
UID:3113-1652486400-1652572799@sfc-hakalanranta.com
SUMMARY:Sääntömääräinen kevätkokous 14.5.2022
DESCRIPTION:
URL:https://sfc-hakalanranta.com/event/saantomaarainen-kevatkokous/
LOCATION:SFC Hakalanranta\, Hakalanranta 51\, Ritvala\, 37720\, Suomi
CATEGORIES:Kokous
ORGANIZER;CN="SF-Caravan Valkeakosken seutu ry":MAILTO:sfcaravanvalkeakoskenseutury@pp.inet.fi
END:VEVENT
BEGIN:VEVENT
DTSTART;VALUE=DATE:20220526
DTEND;VALUE=DATE:20220530
DTSTAMP:20260425T040657
CREATED:20220124T095028Z
LAST-MODIFIED:20220513T151010Z
UID:3115-1653523200-1653868799@sfc-hakalanranta.com
SUMMARY:Helatreffit 26.-29.5.2022
DESCRIPTION:
URL:https://sfc-hakalanranta.com/event/helatreffit-26-29-5-2022/
LOCATION:SFC Hakalanranta\, Hakalanranta 51\, Ritvala\, 37720\, Suomi
CATEGORIES:Treffit
ORGANIZER;CN="SF-Caravan Valkeakosken seutu ry":MAILTO:sfcaravanvalkeakoskenseutury@pp.inet.fi
END:VEVENT
BEGIN:VEVENT
DTSTART;VALUE=DATE:20220623
DTEND;VALUE=DATE:20220627
DTSTAMP:20260425T040657
CREATED:20220124T095336Z
LAST-MODIFIED:20220612T131909Z
UID:3117-1655942400-1656287999@sfc-hakalanranta.com
SUMMARY:Juhannus 23.-26.6.2022
DESCRIPTION:
URL:https://sfc-hakalanranta.com/event/juhannus-23-26-6-2022/
LOCATION:SFC Hakalanranta\, Hakalanranta 51\, Ritvala\, 37720\, Suomi
CATEGORIES:Tapahtuma
ORGANIZER;CN="SF-Caravan Valkeakosken seutu ry":MAILTO:sfcaravanvalkeakoskenseutury@pp.inet.fi
END:VEVENT
BEGIN:VEVENT
DTSTART;VALUE=DATE:20220812
DTEND;VALUE=DATE:20220815
DTSTAMP:20260425T040657
CREATED:20201213T155309Z
LAST-MODIFIED:20220723T171549Z
UID:2933-1660262400-1660521599@sfc-hakalanranta.com
SUMMARY:Possutreffit 12.-14.8.2022
DESCRIPTION:
URL:https://sfc-hakalanranta.com/event/possutreffit/
LOCATION:SFC Hakalanranta\, Hakalanranta 51\, Ritvala\, 37720\, Suomi
CATEGORIES:Treffit
ATTACH;FMTTYPE=image/jpeg:https://sfc-hakalanranta.com/wp-content/uploads/2020/08/Possutreffit-1-of-1.jpg
ORGANIZER;CN="SF-Caravan Valkeakosken seutu ry":MAILTO:sfcaravanvalkeakoskenseutury@pp.inet.fi
END:VEVENT
BEGIN:VEVENT
DTSTART;TZID=UTC:20220826T170000
DTEND;TZID=UTC:20220828T140000
DTSTAMP:20260425T040657
CREATED:20220806T065658Z
LAST-MODIFIED:20220825T165904Z
UID:3246-1661533200-1661695200@sfc-hakalanranta.com
SUMMARY:Venetsialaiset 26.-28.8.2022
DESCRIPTION:  \n 
URL:https://sfc-hakalanranta.com/event/venetsialaiset-26-28-8-2022/
CATEGORIES:Tapahtuma
END:VEVENT
BEGIN:VEVENT
DTSTART;TZID=UTC:20220930T170000
DTEND;TZID=UTC:20221002T140000
DTSTAMP:20260425T040657
CREATED:20220914T150527Z
LAST-MODIFIED:20220914T151042Z
UID:3275-1664557200-1664719200@sfc-hakalanranta.com
SUMMARY:Paluu 50 -luvulle
DESCRIPTION:
URL:https://sfc-hakalanranta.com/event/paluu-50-luvulle/
END:VEVENT
BEGIN:VEVENT
DTSTART;TZID=UTC:20221126T130000
DTEND;TZID=UTC:20221126T150000
DTSTAMP:20260425T040657
CREATED:20220806T082354Z
LAST-MODIFIED:20220806T082807Z
UID:3255-1669467600-1669474800@sfc-hakalanranta.com
SUMMARY:Sääntömääräinen syyskokous
DESCRIPTION:
URL:https://sfc-hakalanranta.com/event/saantomaarainen-syyskokous-26-11-2022/
CATEGORIES:Kokous
END:VEVENT
BEGIN:VEVENT
DTSTART;TZID=UTC:20221203T120000
DTEND;TZID=UTC:20221203T140000
DTSTAMP:20260425T040657
CREATED:20220806T073452Z
LAST-MODIFIED:20221207T181741Z
UID:3252-1670068800-1670076000@sfc-hakalanranta.com
SUMMARY:Puurojuhlat 03.12.2022
DESCRIPTION:
URL:https://sfc-hakalanranta.com/event/puurojuhla-03-12-2022/
CATEGORIES:Tapahtuma
ATTACH;FMTTYPE=image/jpeg:https://sfc-hakalanranta.com/wp-content/uploads/2022/11/Puurojuhla-2022.jpg
END:VEVENT
BEGIN:VEVENT
DTSTART;TZID=Europe/Helsinki:20221229T080000
DTEND;TZID=Europe/Helsinki:20221229T170000
DTSTAMP:20260425T040657
CREATED:20221229T142629Z
LAST-MODIFIED:20221229T142635Z
UID:3344-1672300800-1672333200@sfc-hakalanranta.com
SUMMARY:Venetsialaiset 25.-27.8.2023
DESCRIPTION:
URL:https://sfc-hakalanranta.com/event/venetsialaiset-25-27-8-2023/
END:VEVENT
BEGIN:VEVENT
DTSTART;TZID=Europe/Helsinki:20230304T090000
DTEND;TZID=Europe/Helsinki:20230304T130000
DTSTAMP:20260425T040657
CREATED:20221229T132341Z
LAST-MODIFIED:20230304T131106Z
UID:3322-1677920400-1677934800@sfc-hakalanranta.com
SUMMARY:Pilkkikisat 4.3.2023 (kisan tulokset)
DESCRIPTION:
URL:https://sfc-hakalanranta.com/event/pilkkikisat-11-3-2023/
LOCATION:SFC Hakalanranta\, Hakalanranta 51\, Ritvala\, 37720\, Suomi
CATEGORIES:Tapahtuma
ATTACH;FMTTYPE=image/jpeg:https://sfc-hakalanranta.com/wp-content/uploads/2023/03/Jaakarhu.jpg
END:VEVENT
BEGIN:VEVENT
DTSTART;TZID=Europe/Helsinki:20240308T084500
DTEND;TZID=Europe/Helsinki:20240308T130000
DTSTAMP:20260425T040657
CREATED:20240217T123542Z
LAST-MODIFIED:20240218T101815Z
UID:4120-1709887500-1709902800@sfc-hakalanranta.com
SUMMARY:Hakalanrannan Pilkkikilpailut 2.3.2023 klo 08.45-13.00
DESCRIPTION:
URL:https://sfc-hakalanranta.com/event/hakalanrannan-pilkkikilpailut-2-3-2023-klo-09-00-13-00/
LOCATION:SFC Hakalanranta\, Hakalanranta 51\, Ritvala\, 37720\, Suomi
ORGANIZER;CN="SF-Caravan Valkeakosken seutu ry":MAILTO:sfcaravanvalkeakoskenseutury@pp.inet.fi
END:VEVENT
BEGIN:VEVENT
DTSTART;TZID=Europe/Helsinki:20240604T080000
DTEND;TZID=Europe/Helsinki:20240604T170000
DTSTAMP:20260425T040657
CREATED:20240604T160301Z
LAST-MODIFIED:20240605T131746Z
UID:4177-1717488000-1717520400@sfc-hakalanranta.com
SUMMARY:Lastentapahtuma ja Caravan kirppis lauantaina 6.7.2027
DESCRIPTION: 
URL:https://sfc-hakalanranta.com/event/lastentapahtuma-ja-caravan-kirppis-lauantaina-6-7-2027/
END:VEVENT
BEGIN:VEVENT
DTSTART;TZID=Europe/Helsinki:20240830T160000
DTEND;TZID=Europe/Helsinki:20240901T140000
DTSTAMP:20260425T040657
CREATED:20240805T040530Z
LAST-MODIFIED:20240805T142431Z
UID:4215-1725033600-1725199200@sfc-hakalanranta.com
SUMMARY:SFC Hakalanrannan Venetsialaiset 30.8.-1.9.2024
DESCRIPTION:
URL:https://sfc-hakalanranta.com/event/sfc-hakalanrannan-venetsialaiset-30-8-1-9-2024/
CATEGORIES:Tapahtuma
END:VEVENT
BEGIN:VEVENT
DTSTART;VALUE=DATE:20250412
DTEND;VALUE=DATE:20250413
DTSTAMP:20260425T040657
CREATED:20250302T143042Z
LAST-MODIFIED:20250302T143042Z
UID:4351-1744416000-1744502399@sfc-hakalanranta.com
SUMMARY:Kevättalkoot
DESCRIPTION:
URL:https://sfc-hakalanranta.com/event/kevattalkoot/
LOCATION:SFC Hakalanranta\, Hakalanranta 51\, Ritvala\, 37720\, Suomi
CATEGORIES:Talkoot
ORGANIZER;CN="SF-Caravan Valkeakosken seutu ry":MAILTO:sfcaravanvalkeakoskenseutury@pp.inet.fi
END:VEVENT
BEGIN:VEVENT
DTSTART;VALUE=DATE:20250417
DTEND;VALUE=DATE:20250422
DTSTAMP:20260425T040657
CREATED:20250302T143736Z
LAST-MODIFIED:20250323T133238Z
UID:4353-1744848000-1745279999@sfc-hakalanranta.com
SUMMARY:Pääsiäinen
DESCRIPTION:Ilmoittauduthan brunssille\, jotta osaamme varata oikean määrän tarjottavaa. Brunssin hinta 15€/hlö. \n 
URL:https://sfc-hakalanranta.com/event/paasiainen-3/
LOCATION:SFC Hakalanranta\, Hakalanranta 51\, Ritvala\, 37720\, Suomi
CATEGORIES:Tapahtuma
ATTACH;FMTTYPE=image/jpeg:https://sfc-hakalanranta.com/wp-content/uploads/2025/03/Paasiainen.jpg
ORGANIZER;CN="SF-Caravan Valkeakosken seutu ry":MAILTO:sfcaravanvalkeakoskenseutury@pp.inet.fi
END:VEVENT
BEGIN:VEVENT
DTSTART;VALUE=DATE:20250430
DTEND;VALUE=DATE:20250504
DTSTAMP:20260425T040657
CREATED:20250302T144006Z
LAST-MODIFIED:20250413T085101Z
UID:4355-1745971200-1746316799@sfc-hakalanranta.com
SUMMARY:Vappu\, kauden avajaiset
DESCRIPTION: 
URL:https://sfc-hakalanranta.com/event/vappu-3/
LOCATION:SFC Hakalanranta\, Hakalanranta 51\, Ritvala\, 37720\, Suomi
CATEGORIES:Tapahtuma
ATTACH;FMTTYPE=image/jpeg:https://sfc-hakalanranta.com/wp-content/uploads/2025/03/Vappu-1.jpg
ORGANIZER;CN="SF-Caravan Valkeakosken seutu ry":MAILTO:sfcaravanvalkeakoskenseutury@pp.inet.fi
END:VEVENT
BEGIN:VEVENT
DTSTART;VALUE=DATE:20250619
DTEND;VALUE=DATE:20250622
DTSTAMP:20260425T040657
CREATED:20250302T144330Z
LAST-MODIFIED:20250525T193216Z
UID:4358-1750291200-1750550399@sfc-hakalanranta.com
SUMMARY:Juhannus 2025
DESCRIPTION:
URL:https://sfc-hakalanranta.com/event/juhannus-2/
LOCATION:SFC Hakalanranta\, Hakalanranta 51\, Ritvala\, 37720\, Suomi
CATEGORIES:Tapahtuma
ATTACH;FMTTYPE=image/jpeg:https://sfc-hakalanranta.com/wp-content/uploads/2025/05/Juhannus.jpg
ORGANIZER;CN="SF-Caravan Valkeakosken seutu ry":MAILTO:sfcaravanvalkeakoskenseutury@pp.inet.fi
END:VEVENT
BEGIN:VEVENT
DTSTART;VALUE=DATE:20250712
DTEND;VALUE=DATE:20250713
DTSTAMP:20260425T040657
CREATED:20250302T144547Z
LAST-MODIFIED:20250707T152909Z
UID:4360-1752278400-1752364799@sfc-hakalanranta.com
SUMMARY:Lastentapahtuma
DESCRIPTION:
URL:https://sfc-hakalanranta.com/event/lastentapahtuma/
LOCATION:SFC Hakalanranta\, Hakalanranta 51\, Ritvala\, 37720\, Suomi
CATEGORIES:Tapahtuma
ORGANIZER;CN="SF-Caravan Valkeakosken seutu ry":MAILTO:sfcaravanvalkeakoskenseutury@pp.inet.fi
END:VEVENT
BEGIN:VEVENT
DTSTART;VALUE=DATE:20250802
DTEND;VALUE=DATE:20250803
DTSTAMP:20260425T040657
CREATED:20250302T144855Z
LAST-MODIFIED:20250716T052432Z
UID:4362-1754092800-1754179199@sfc-hakalanranta.com
SUMMARY:Possutreffit
DESCRIPTION:
URL:https://sfc-hakalanranta.com/event/possutreffit-2/
LOCATION:SFC Hakalanranta\, Hakalanranta 51\, Ritvala\, 37720\, Suomi
CATEGORIES:Treffit
ORGANIZER;CN="SF-Caravan Valkeakosken seutu ry":MAILTO:sfcaravanvalkeakoskenseutury@pp.inet.fi
END:VEVENT
BEGIN:VEVENT
DTSTART;VALUE=DATE:20250829
DTEND;VALUE=DATE:20250901
DTSTAMP:20260425T040657
CREATED:20250302T145012Z
LAST-MODIFIED:20250811T154459Z
UID:4364-1756425600-1756684799@sfc-hakalanranta.com
SUMMARY:Venetsialaiset
DESCRIPTION:
URL:https://sfc-hakalanranta.com/event/venetsialaiset/
LOCATION:SFC Hakalanranta\, Hakalanranta 51\, Ritvala\, 37720\, Suomi
ATTACH;FMTTYPE=image/png:https://sfc-hakalanranta.com/wp-content/uploads/2025/03/Venetsialaiset2025.png
ORGANIZER;CN="SF-Caravan Valkeakosken seutu ry":MAILTO:sfcaravanvalkeakoskenseutury@pp.inet.fi
END:VEVENT
BEGIN:VEVENT
DTSTART;TZID=Europe/Helsinki:20260228T090000
DTEND;TZID=Europe/Helsinki:20260228T130000
DTSTAMP:20260425T040657
CREATED:20260208T181128Z
LAST-MODIFIED:20260214T143017Z
UID:4642-1772269200-1772283600@sfc-hakalanranta.com
SUMMARY:Pilkkikisat 28.2.2026
DESCRIPTION:  \nSarjat: Yleinen/lapset \nSuurin kala ja suurin saalis palkitaan. \nMahdollisuus ruokailuun kisan jälkeen. Hernekeitto\, pannukakku sekä kahvi 10\,00/hlö.
URL:https://sfc-hakalanranta.com/event/pilkkikisat-28-2-2026/
LOCATION:SFC Hakalanranta\, Hakalanranta 51\, Ritvala\, 37720\, Suomi
CATEGORIES:Tapahtuma
ATTACH;FMTTYPE=image/png:https://sfc-hakalanranta.com/wp-content/uploads/2026/02/Nayttokuva-2026-02-08-202156.png
END:VEVENT
BEGIN:VEVENT
DTSTART;VALUE=DATE:20260402
DTEND;VALUE=DATE:20260407
DTSTAMP:20260425T040657
CREATED:20260208T182712Z
LAST-MODIFIED:20260310T183256Z
UID:4647-1775088000-1775519999@sfc-hakalanranta.com
SUMMARY:Pääsiäinen 2.4.-6.4.2026
DESCRIPTION:Pääsiäisenä kaikenlaista kivaa ohjelmaa. Ohjelma tarkentuu vielä kun nähdään millaista säätä meille luvataan. Eli yllätyksiä mahdollisesti vielä tulossa lisää. \nPaikan voi varata ennakkoon 30.3. alkaen puh: 0447314462 (miel. iltaisin)
URL:https://sfc-hakalanranta.com/event/paasiainen-4/
ATTACH;FMTTYPE=image/png:https://sfc-hakalanranta.com/wp-content/uploads/2026/03/Paasiainen2026.png
END:VEVENT
BEGIN:VEVENT
DTSTART;VALUE=DATE:20260419
DTEND;VALUE=DATE:20260420
DTSTAMP:20260425T040657
CREATED:20260208T183240Z
LAST-MODIFIED:20260412T073831Z
UID:4653-1776556800-1776643199@sfc-hakalanranta.com
SUMMARY:Kevätkokous 19.4.2026
DESCRIPTION:SF Caravan Valkeakosken seutu ry:n kevätkokous 19.4.2026 klo 13.00 sydäntuvalla\, Hakalanranta 51\, 37720 Ritvala. \nKokouksessa käsitellään sääntömääräiset asiat sekä vuosikertomus 2025. \nTilaisuus alkaa korttien tarkastuksella klo 12.30. \nKokouksessa kahvitarjoilu. \nTervetuloa!
URL:https://sfc-hakalanranta.com/event/kevatkokous-26-4-2026/
END:VEVENT
BEGIN:VEVENT
DTSTART;VALUE=DATE:20260425
DTEND;VALUE=DATE:20260426
DTSTAMP:20260425T040657
CREATED:20260208T183152Z
LAST-MODIFIED:20260419T143439Z
UID:4651-1777075200-1777161599@sfc-hakalanranta.com
SUMMARY:Kevättalkoot 25.4.2026
DESCRIPTION:
URL:https://sfc-hakalanranta.com/event/kevattalkoot-25-4-2026/
CATEGORIES:Talkoot
ATTACH;FMTTYPE=image/png:https://sfc-hakalanranta.com/wp-content/uploads/2026/04/Kevattalkoot.png
END:VEVENT
END:VCALENDAR