BEGIN:VCALENDAR
VERSION:2.0
PRODID:-//SFC Hakalanranta - ECPv6.15.20//NONSGML v1.0//EN
CALSCALE:GREGORIAN
METHOD:PUBLISH
X-ORIGINAL-URL:https://sfc-hakalanranta.com
X-WR-CALDESC:Tapahtumat SFC Hakalanranta
REFRESH-INTERVAL;VALUE=DURATION:PT1H
X-Robots-Tag:noindex
X-PUBLISHED-TTL:PT1H
BEGIN:VTIMEZONE
TZID:Europe/Helsinki
BEGIN:DAYLIGHT
TZOFFSETFROM:+0200
TZOFFSETTO:+0300
TZNAME:EEST
DTSTART:20180325T010000
END:DAYLIGHT
BEGIN:STANDARD
TZOFFSETFROM:+0300
TZOFFSETTO:+0200
TZNAME:EET
DTSTART:20181028T010000
END:STANDARD
BEGIN:DAYLIGHT
TZOFFSETFROM:+0200
TZOFFSETTO:+0300
TZNAME:EEST
DTSTART:20190331T010000
END:DAYLIGHT
BEGIN:STANDARD
TZOFFSETFROM:+0300
TZOFFSETTO:+0200
TZNAME:EET
DTSTART:20191027T010000
END:STANDARD
BEGIN:DAYLIGHT
TZOFFSETFROM:+0200
TZOFFSETTO:+0300
TZNAME:EEST
DTSTART:20200329T010000
END:DAYLIGHT
BEGIN:STANDARD
TZOFFSETFROM:+0300
TZOFFSETTO:+0200
TZNAME:EET
DTSTART:20201025T010000
END:STANDARD
END:VTIMEZONE
BEGIN:VEVENT
DTSTART;TZID=Europe/Helsinki:20190504T130000
DTEND;TZID=Europe/Helsinki:20190504T150000
DTSTAMP:20260425T200016
CREATED:20190107T084847Z
LAST-MODIFIED:20190107T084847Z
UID:2395-1556974800-1556982000@sfc-hakalanranta.com
SUMMARY:Kevätkokous 4.5.2019
DESCRIPTION:12.30 kahvitarjoilu ja jäsenkorttien tarkistus\nkokouksen jälkeen kesäisäntien palaveri
URL:https://sfc-hakalanranta.com/event/kevatkokous-4-5-2019/
LOCATION:SFC Hakalanranta\, Hakalanranta 51\, Ritvala\, 37720\, Suomi
CATEGORIES:Kokous
ATTACH;FMTTYPE=image/jpeg:https://sfc-hakalanranta.com/wp-content/uploads/2019/01/ScreenHunter_16.jpg
ORGANIZER;CN="SF-Caravan Valkeakosken seutu ry":MAILTO:sfcaravanvalkeakoskenseutury@pp.inet.fi
END:VEVENT
END:VCALENDAR